BEGIN:VCALENDAR
VERSION:2.0
PRODID:-//Teatro di Dioniso - ECPv6.15.17.1//NONSGML v1.0//EN
CALSCALE:GREGORIAN
METHOD:PUBLISH
X-WR-CALNAME:Teatro di Dioniso
X-ORIGINAL-URL:https://www.teatrodidioniso.it
X-WR-CALDESC:Eventi per Teatro di Dioniso
REFRESH-INTERVAL;VALUE=DURATION:PT1H
X-Robots-Tag:noindex
X-PUBLISHED-TTL:PT1H
BEGIN:VTIMEZONE
TZID:Europe/Rome
BEGIN:DAYLIGHT
TZOFFSETFROM:+0100
TZOFFSETTO:+0200
TZNAME:CEST
DTSTART:20240331T010000
END:DAYLIGHT
BEGIN:STANDARD
TZOFFSETFROM:+0200
TZOFFSETTO:+0100
TZNAME:CET
DTSTART:20241027T010000
END:STANDARD
BEGIN:DAYLIGHT
TZOFFSETFROM:+0100
TZOFFSETTO:+0200
TZNAME:CEST
DTSTART:20250330T010000
END:DAYLIGHT
BEGIN:STANDARD
TZOFFSETFROM:+0200
TZOFFSETTO:+0100
TZNAME:CET
DTSTART:20251026T010000
END:STANDARD
BEGIN:DAYLIGHT
TZOFFSETFROM:+0100
TZOFFSETTO:+0200
TZNAME:CEST
DTSTART:20260329T010000
END:DAYLIGHT
BEGIN:STANDARD
TZOFFSETFROM:+0200
TZOFFSETTO:+0100
TZNAME:CET
DTSTART:20261025T010000
END:STANDARD
END:VTIMEZONE
BEGIN:VEVENT
DTSTART;TZID=Europe/Rome:20251202T210000
DTEND;TZID=Europe/Rome:20251203T223000
DTSTAMP:20260424T233611
CREATED:20251105T094032Z
LAST-MODIFIED:20251105T094355Z
UID:11247-1764709200-1764801000@www.teatrodidioniso.it
SUMMARY:SVELARSI
DESCRIPTION:Martedì 2 e mercoledì 3 dicembre alle ore 21.00 torna SVELARSI all’Ambra Jovinelli di Roma \nChe cos’è Svelarsi? E’ uno spettacolo/esperimento/serata/happening/sabba/pigiama party/assemblea… qualcosa di indefinito e indefinibile\, un momento di condivisione e di riflessione piuttosto allegro su temi come il femminismo\, l’umiliazione\, la rivalsa\, il senso di colpa\, l’autodeterminazione. É una serata per sole donne (cis\, trans\, non binarie)\, che genera parecchie risate e una smodata sorellanza. Il tutto a partire dai nostri corpi nudi.\nDal 2022 incontriamo platee di donne in teatri di varie città. In scena portiamo le nostre esperienze\, i vissuti dei nostri corpi di donna. Dalle umiliazioni subite e autoinflitte per essere come ci dicono che dobbiamo essere\, dai modelli che ci stanno stretti\, dalle limitazioni che ci impongono\, all’ironia e alla liberazione che scaturiscono quando ci permettiamo di esprimere tutto il nostro potenziale. La scrittura non è solo di parole\, anzi\, soprattutto di corpi. Le parole a volte sono gli inganni\, il rumore dell’abituale: i corpi rivelano la vera essenza\, il discorso non articolato ma presente. La condivisione di questi momenti di svelamento – dei nostri corpi\, dei nostri fallimenti\, della nostra rabbia e delle nostre risate – genera per empatia lo stesso atto di liberazione.\nAnche per questo il pubblico a cui ci rivolgiamo è un pubblico di donne (cis\, trans e non binarie). Non si tratta solo di creare uno spazio sicuro per chi è sul palco\, ma di permettere a chi guarda di sentire il proprio corpo risuonare più profondamente con quello che vede\, nudo\, in scena. \nSVELARSI\nUna serata per sole donne (cis\, trans\, non-binary)\n\n\nregia di Silvia Gallerano\ndi e con Giulia Aleandri\, Elvira Berarducci\, Smeralda Capizzi\,\nBenedetta Cassio\, Livia De Luca\, Chantal Gori\, Giulia Pietrozzini\, Silvia Gallerano\ncon il contributo di Serena Dibiase e la voce di Greta Marzano\nallestimento luci Camila Chiozza\nconsulenza costumi Emanuela Dall’Aglio\ncura del progetto Nicoletta Scrivo\nuna produzione Teatro di Dioniso\, direzione artistica Michela Cescon\nin collaborazione con PAV nell’ambito di Fabulamundi Playwriting Europe\,\ndirezione Claudia Di Giacomo e Roberta Scaglione e Frida Kahlo Productions\ncon il contributo del MiC – Ministero della Cultura\, Regione Lazio e Roma Capitale\nin collaborazione con SIAE- Società Italiana degli Autori ed Editori\nsi ringraziano per il supporto e l’ospitalità ATCL per Spazio Rossellini\,\nLottounico\, Fortezza Est e Fivizzano27
URL:https://www.teatrodidioniso.it/spettacolo/svelarsi-17/
LOCATION:TEATRO AMBRA JOVINELLI\, via Guglielmo Pepe\, 45\, ROMA\, 00100\, Italy
CATEGORIES:Calendario spettacoli 2025
ATTACH;FMTTYPE=image/jpeg:https://www.teatrodidioniso.it/wp-content/uploads/SVELARSI4-1.jpg
END:VEVENT
BEGIN:VEVENT
DTSTART;TZID=Europe/Rome:20251207T200000
DTEND;TZID=Europe/Rome:20251207T210000
DTSTAMP:20260424T233611
CREATED:20251014T095105Z
LAST-MODIFIED:20251015T082212Z
UID:11162-1765137600-1765141200@www.teatrodidioniso.it
SUMMARY:PEITHO-PERSUASIONE
DESCRIPTION:Il Festival dell’Eccellenza al Femminile XXI edizione Maratona per la pace ospita domenica 7 dicembre alle 20.00 Peitho-Persuasione di Irene Petra Zani  con Federica Fracassi \nLa giovanissima drammaturga Irene Petra Zani incontra la tragedia umana e intellettuale di Carlo Michelstaedter\, nato nel 1887 a Gorizia e morto suicida nel 1920: filosofo raffinatissimo e inquieto\, laureatosi con una tesi poi diventata libro di culto: La persuasione e la retorica. Si chiede Zani: «Si dice che il volto della Persuasione sia terribile\, ma è davvero così? È questo il tormento ininterrotto della mente di un ragazzo di 23 anni di Gorizia che scrive e pensa in greco». Per l’autrice quel ragazzo cercava di «fare un ritratto che andasse oltre la maschera degli insegnamenti ereditati e così Peitho\, Dea della Persuasione del pantheon greco\, appena evocata si discolpa dalla guerra e dal capitalismo occidentale. Il pubblico assiste a una apologia dove la Storia della violenza come principio che governa il Mondo\, si intreccia con la storia del ragazzo friulano che sprofonda dentro sé stesso alla vigilia della Grande Guerra. Ma le maschere non cadono. E Peitho non persuade nessuno. Forse». \nIl testo\, vincitore del bando “FuturoPassato” arriva sulla scena con il concept di Federica Fracassi\, anche interprete con Dimitrios Papavasiliu\, e il sound di Shari DeLorian. Scrive Fracassi presentando il lavoro: «La Dea della persuasione vomita parole affilate come armi\, mentre si discolpa incalzata da un coro di umani che si professano innocenti per le sorti che impongono al mondo. Il rischio formale di questo progetto mi ha innamorata. Conoscevo la storia di Carlo per averla studiata a scuola. La sua coerenza mi è sempre parsa terribile e al tempo stesso gloriosa. Sono certa che l’arte debba raccontare anche il male e le nostre parti oscure ed è raro trovare scritture così potenti e lucide che tengono in pugno ciò che quasi non si riesce a dire. Ho immaginato un ambiente crudele\, spietato\, un paesaggio devastato e sospeso agito da voci e da suoni». \nPEITHO – PERSUASIONE \nprogetto Federica Fracassi e Irene Petra Zani\nconcept Federica Fracassi\ninterpreti\nFederica Fracassi e Dimitrios Papavasiliu\nsound artist\nShari DeLorian \n  \nFoto di copertina:Fabio Lovino
URL:https://www.teatrodidioniso.it/spettacolo/peitho-persuasione/
LOCATION:SALA MERCATO\, P-ZZA GUSTAVO MODENA 3\, GENOVA\, 16149
CATEGORIES:Calendario spettacoli 2025
ATTACH;FMTTYPE=image/jpeg:https://www.teatrodidioniso.it/wp-content/uploads/Federica-Fracassi-ph-Fabio-Lovino.jpg
END:VEVENT
BEGIN:VEVENT
DTSTART;TZID=Europe/Rome:20251210T210000
DTEND;TZID=Europe/Rome:20251210T220000
DTSTAMP:20260424T233611
CREATED:20251124T085437Z
LAST-MODIFIED:20251124T090346Z
UID:11273-1765400400-1765404000@www.teatrodidioniso.it
SUMMARY:TIENIMI CON TE
DESCRIPTION:Progetto vincitore di «Circoscrizioni che spettacolo…dal vivo!2025» Città di Torino\,mercoledì 10 dicembre alle ore 21.00\,  arriva al Teatro Erba TIENIMI CON TE creazione di Barbalara Altissimo. \n  \n«Ma se alla fine di tutto si potesse tornare indietro..?\nSe si potesse tornare bambini?\nPrima del grande buio ancora un altro giro\, un’altra possibilità\, l’ultimo ginocchio sbucciato\, un’ultima ciliegia…»\nQuesto lavoro nasce dal desiderio di indagare le profonde similitudini che legano l’infanzia e la vecchiaia\, due momenti fondamentali della vita di ogni essere umano.\nTIENIMI CON TE\, racconta cinquanta minuti di un tempo sospeso\, scandito da azioni quotidiane e condivise.\nAbbiamo immaginato un non luogo\, uno spazio che rimanda ad un asilo\, una casa di riposo\, comunque un luogo di cura.\nTIENIMI CON TE\, e’ un viaggio nei luoghi comuni\, nelle pieghe più profonde dell’essere umano\, è un tornare alle radici della nostra esistenza\, è un tentativo di raccontare le fragilità e gli incanti di questi due momenti di vita.\nInsieme ad alcuni artisti in scena ci saranno persone comuni\, rappresentanti della società civile che abbiamo incontrato durante questo tempo di ricerca e indagine. \nACQUISTA QUI IL TUO BIGLIETTO \nTIENIMI CON TE\ncreazione e regia Barbara Altissimo\ndrammaturgia Emanuela Currao\nallestimento scenico e luci Massimo Vesco\ncoordinamento artistico Nadia Frola\naccompagnamento scenico Fabio Castello \ncura del progetto Teatro di Dioniso / in collaborazione con Liberamenteunico
URL:https://www.teatrodidioniso.it/spettacolo/tienimi-con-te/
LOCATION:TEATRO ERBA\, CORSO MONCALIERI\, 241\, TORINO\, 10133\, Italy
CATEGORIES:Calendario spettacoli 2025
ATTACH;FMTTYPE=image/jpeg:https://www.teatrodidioniso.it/wp-content/uploads/Barbara-Altissimo-Tienimi-con-te2.jpg
END:VEVENT
BEGIN:VEVENT
DTSTART;TZID=Europe/Rome:20251212T210000
DTEND;TZID=Europe/Rome:20251214T160000
DTSTAMP:20260424T233611
CREATED:20251015T091136Z
LAST-MODIFIED:20251015T091136Z
UID:11173-1765573200-1765728000@www.teatrodidioniso.it
SUMMARY:LA RIVOLTA DELLA GIOIA
DESCRIPTION:Venerdì 12 dicembre alle 21.00 (con repliche sabato 13 ore 17.00 e domenica 14 ore 15.00)  Autitorium Parco della Musica Ennio Morricone – Sala Petrassi\, ospita in prima mondiale La rivolta della gioia\, un concerto\, uno spettacolo\, un musical (e una festa) dove a ballare sono i corpi di chi ascolta e dove ci si lascia trascinare\, cantando\, in coro\, da una banda di dodici ragazzini che con il loro entusiasmo\, tra una partita di pallone e i carri armati\, si ribella allo squallore delle guerre scatenando una festa mondiale che\, per un momento\, sembra davvero cambiare la storia. \nUna festa cantata e suonata dal vivo da un coro di voci bianche e da un cast di eccellenze internazionali\, un concerto partecipato e travolgente dove ascoltando viene voglia di ballare e ci si commuove e si ride e si salta e si sente una delle storie più ribelli della storia\, una di quelle raccontate e riascoltate milioni di volte ma che scegliamo di suonare dal vivo e con impeto di festa\, con le voci che si intarsiano e spaccano il cuore e le madri che fuggono dallo squallore delle bombe coi figli allacciati al seno e migrano nelle città straniere con lo struggente suono di una fisarmonica come un’orchestra e la moltiplicazione dei pani e dei pesci con l’acqua che si trasforma in vino e altri due miracoli di cui nessuno (ma proprio nessuno) aveva mai sentito. \nSe non si grida evviva la libertà ridendo\, non si grida evviva la libertà. \n\nACQUISTA QUI IL TUO BIGLIETTO \n  \nLA RIVOLTA DELLA GIOIA\nDi  Cristian Ceresoli \nMusiche di G. Casadei\, C. Ceresoli\, S. Gallerano\, F. Monti\, S. Piro\, A. Pizzicato\, C. Vetrone \nSilvia Gallerano voce \nFabio Monti voce \nGianluca Casadei fisarmonica \nStefano Piro voce e direzione musicale \nAlle lettere di un bambino a Dio Nicola Ceresoli \nCoretto della gioia (voci bianche) Vera Bencivelli\, Eva Candura\, Lara Ceresoli\, Nicola Ceresoli\, Romeo De Angelis\, Olivia Monti\, Teresa Monti e con Francesca Risoli\, Federica Ugolini \nMaestro del coro Stefano Piro \nTecnica Giorgio Gagliano \nUna produzione Spin Time\, Frida Kahlo Productions \nCon Teatro di Dioniso in collaborazione con PAV \ne il contributo di Produzioni Fuorivia\, Teatro degli Incamminati \nSotto l’Alto Patrocinio dell’Unione Europea \n 
URL:https://www.teatrodidioniso.it/spettacolo/la-rivolta-della-gioia/
LOCATION:AUDITORIUM PARCO DELLA MUSICA SALA PETRASSI\, via Pietro de Coubertin 30\, ROMA\, 00196
CATEGORIES:Calendario spettacoli 2025
ATTACH;FMTTYPE=image/jpeg:https://www.teatrodidioniso.it/wp-content/uploads/Cantata-Contro-la-Guerra-di-Cristian-Ceresoli-4.jpg
END:VEVENT
END:VCALENDAR