BEGIN:VCALENDAR
VERSION:2.0
PRODID:-//Teatro di Dioniso - ECPv6.15.17.1//NONSGML v1.0//EN
CALSCALE:GREGORIAN
METHOD:PUBLISH
X-ORIGINAL-URL:https://www.teatrodidioniso.it
X-WR-CALDESC:Eventi per Teatro di Dioniso
REFRESH-INTERVAL;VALUE=DURATION:PT1H
X-Robots-Tag:noindex
X-PUBLISHED-TTL:PT1H
BEGIN:VTIMEZONE
TZID:Europe/Rome
BEGIN:DAYLIGHT
TZOFFSETFROM:+0100
TZOFFSETTO:+0200
TZNAME:CEST
DTSTART:20240331T010000
END:DAYLIGHT
BEGIN:STANDARD
TZOFFSETFROM:+0200
TZOFFSETTO:+0100
TZNAME:CET
DTSTART:20241027T010000
END:STANDARD
BEGIN:DAYLIGHT
TZOFFSETFROM:+0100
TZOFFSETTO:+0200
TZNAME:CEST
DTSTART:20250330T010000
END:DAYLIGHT
BEGIN:STANDARD
TZOFFSETFROM:+0200
TZOFFSETTO:+0100
TZNAME:CET
DTSTART:20251026T010000
END:STANDARD
BEGIN:DAYLIGHT
TZOFFSETFROM:+0100
TZOFFSETTO:+0200
TZNAME:CEST
DTSTART:20260329T010000
END:DAYLIGHT
BEGIN:STANDARD
TZOFFSETFROM:+0200
TZOFFSETTO:+0100
TZNAME:CET
DTSTART:20261025T010000
END:STANDARD
END:VTIMEZONE
BEGIN:VEVENT
DTSTART;TZID=Europe/Rome:20250401T210000
DTEND;TZID=Europe/Rome:20250403T223000
DTSTAMP:20260425T124952
CREATED:20250331T075425Z
LAST-MODIFIED:20250331T075556Z
UID:10737-1743541200-1743719400@www.teatrodidioniso.it
SUMMARY:SVELARSI
DESCRIPTION:Da martedì 1 a giovedì 3 aprile 2025 torna a Roma allo Spazio Angelo Mai Occupato\, SVELARSI di Silvia Gallerano \nSolo corpi femminili: è questo l’esperimento \nSvelarsi è  uno spettacolo/esperimento/serata/happening/sabba/pigiama party/assemblea… qualcosa di indefinito e indefinibile\, un momento di condivisione e di riflessione piuttosto allegro su temi come il femminismo\, l’umiliazione\, la rivalsa\, il senso di colpa\, l’autodeterminazione. È una serata per sole donne\, che genera parecchie risate e una smodata sorellanza. \nSvelarsi è un percorso di ricerca. Per questo si rivolge a un pubblico esclusivamente di donne (cis\, trans e non binarie). Tutte quelle che si sentono e definiscono donne. Non si tratta di creare uno spazio sicuro per chi è sul palco\, ma di indagare che cosa succede ai corpi simili di chi assiste\, domandarsi se il proprio corpo risuona più profondamente con quello che vede\, nudo\, in scena. \n  \ninfo e prenotazioni: prenotazioni@angelomai.org \n  \nSVELARSI\nUNA SERATA PER SOLE DONNE (CIS\, TRANS\, NON BINARY) \nregia di Silvia Gallerano\ndi e con Giulia Aleandri\, Elvira Berarducci\, Smeralda Capizzi\, Benedetta Cassio\, Livia De Luca\, Chantal Gori\, Giulia Pietrozzini\, Silvia Gallerano\ncon il contributo di Serena Dibiase e la voce di Greta Marzano\nallestimento luci Camila Chiozza\nconsulenza costumi Emanuela Dall’Aglio\ncura del progetto Nicoletta Scrivo\nuna produzione Teatro di Dioniso\, direzione artistica Michela Cescon\nin collaborazione con PAV nell’ambito di Fabulamundi Playwriting Europe\, direzione Claudia Di Giacomo e Roberta Scaglione e Frida Kahlo Productions\ncon il contributo del MiC – Ministero della Cultura\, Regione Lazio e Roma Capitale\nin collaborazione con SIAE- Società Italiana degli Autori ed Editori\nsi ringraziano per il supporto e l’ospitalità ATCL per Spazio Rossellini\, Lottounico\, Fortezza \n  \n 
URL:https://www.teatrodidioniso.it/spettacolo/svelarsi-15/
LOCATION:ANGELO MAI\, VIA ALLE TERME DI CARACALLA\, ROMA\, 00153
CATEGORIES:Calendario spettacoli 2025
ATTACH;FMTTYPE=image/jpeg:https://www.teatrodidioniso.it/wp-content/uploads/Svelarsi-07.jpg
END:VEVENT
BEGIN:VEVENT
DTSTART;TZID=Europe/Rome:20250412T210000
DTEND;TZID=Europe/Rome:20250412T223000
DTSTAMP:20260425T124952
CREATED:20250403T081403Z
LAST-MODIFIED:20250403T081403Z
UID:10742-1744491600-1744497000@www.teatrodidioniso.it
SUMMARY:SVELARSI
DESCRIPTION:Sabato 12 aprile 2025 alle 21.00 il Teatro Rossetti di Vasto (CH)\, ospita SVELARSI di Silvia Gallerano. \n  \nSolo corpi femminili. È questo l’esperimento \nSvelarsi è  uno spettacolo/esperimento/serata/happening/sabba/pigiama party/assemblea… qualcosa di indefinito e indefinibile\, un momento di condivisione e di riflessione piuttosto allegro su temi come il femminismo\, l’umiliazione\, la rivalsa\, il senso di colpa\, l’autodeterminazione. È una serata per sole donne\, che genera parecchie risate e una smodata sorellanza. \nSvelarsi è un percorso di ricerca. Per questo si rivolge a un pubblico esclusivamente di donne (cis\, trans e non binarie). Tutte quelle che si sentono e definiscono donne. Non si tratta di creare uno spazio sicuro per chi è sul palco\, ma di indagare che cosa succede ai corpi simili di chi assiste\, domandarsi se il proprio corpo risuona più profondamente con quello che vede\, nudo\, in scena. \n  \n  \n  \nSVELARSI\nUNA SERATA PER SOLE DONNE (CIS\, TRANS\, NON BINARY) \nregia di Silvia Gallerano\ndi e con Giulia Aleandri\, Elvira Berarducci\, Smeralda Capizzi\, Benedetta Cassio\, Livia De Luca\, Chantal Gori\, Giulia Pietrozzini\, Silvia Gallerano\ncon il contributo di Serena Dibiase e la voce di Greta Marzano\nallestimento luci Camila Chiozza\nconsulenza costumi Emanuela Dall’Aglio\ncura del progetto Nicoletta Scrivo\nuna produzione Teatro di Dioniso\, direzione artistica Michela Cescon\nin collaborazione con PAV nell’ambito di Fabulamundi Playwriting Europe\, direzione Claudia Di Giacomo e Roberta Scaglione e Frida Kahlo Productions\ncon il contributo del MiC – Ministero della Cultura\, Regione Lazio e Roma Capitale\nin collaborazione con SIAE- Società Italiana degli Autori ed Editori\nsi ringraziano per il supporto e l’ospitalità ATCL per Spazio Rossellini\, Lottounico\, Fortezza \n  \n  \n 
URL:https://www.teatrodidioniso.it/spettacolo/svelarsi-16/
LOCATION:TEATRO ROSSETTI\, VIA AIMONE 1\, VASTO\, ITALIA\, 66054
CATEGORIES:Calendario spettacoli 2025
ATTACH;FMTTYPE=image/jpeg:https://www.teatrodidioniso.it/wp-content/uploads/SVELARSI2.jpg
END:VEVENT
END:VCALENDAR