BEGIN:VCALENDAR
VERSION:2.0
PRODID:-//Teatro di Dioniso - ECPv6.15.17.1//NONSGML v1.0//EN
CALSCALE:GREGORIAN
METHOD:PUBLISH
X-WR-CALNAME:Teatro di Dioniso
X-ORIGINAL-URL:https://www.teatrodidioniso.it
X-WR-CALDESC:Eventi per Teatro di Dioniso
REFRESH-INTERVAL;VALUE=DURATION:PT1H
X-Robots-Tag:noindex
X-PUBLISHED-TTL:PT1H
BEGIN:VTIMEZONE
TZID:Europe/Rome
BEGIN:DAYLIGHT
TZOFFSETFROM:+0100
TZOFFSETTO:+0200
TZNAME:CEST
DTSTART:20240331T010000
END:DAYLIGHT
BEGIN:STANDARD
TZOFFSETFROM:+0200
TZOFFSETTO:+0100
TZNAME:CET
DTSTART:20241027T010000
END:STANDARD
BEGIN:DAYLIGHT
TZOFFSETFROM:+0100
TZOFFSETTO:+0200
TZNAME:CEST
DTSTART:20250330T010000
END:DAYLIGHT
BEGIN:STANDARD
TZOFFSETFROM:+0200
TZOFFSETTO:+0100
TZNAME:CET
DTSTART:20251026T010000
END:STANDARD
BEGIN:DAYLIGHT
TZOFFSETFROM:+0100
TZOFFSETTO:+0200
TZNAME:CEST
DTSTART:20260329T010000
END:DAYLIGHT
BEGIN:STANDARD
TZOFFSETFROM:+0200
TZOFFSETTO:+0100
TZNAME:CET
DTSTART:20261025T010000
END:STANDARD
END:VTIMEZONE
BEGIN:VEVENT
DTSTART;TZID=Europe/Rome:20250221T210000
DTEND;TZID=Europe/Rome:20250305T220000
DTSTAMP:20260425T141244
CREATED:20241024T092159Z
LAST-MODIFIED:20241028T084407Z
UID:10504-1740171600-1741212000@www.teatrodidioniso.it
SUMMARY:LA CASA MISTERIOSA LASSU' NELLA NEBBIA
DESCRIPTION:Venerdì 21 febbraio 2025 alle ore 21.00 – con repliche 22\, 23\,25\,26 27 e 28; 1\, 4 e 5 marzo – debutterà in prima nazionale l’ultimo lavoro della pluripremiata coppia Cuocolo/Bosetti nell’ormai iconica abitazione dei due artisti\, più volte diventata teatro per rappresentare le lo creazioni\, in via Ludovico Ariosto 85 a Vercelli. \nLo spettacolo è prodotto da Teatro di Dioniso e viene organizzato in collaborazione con Anacoleti – Officina Teatrale di Vercelli (sede di #ogniluogoèunteatro che da quattro anni Cuocolo/Bosetti organizza insieme a Dioniso ed Arteinscacco) e Piemonte dal Vivo. \n\nLo spettacolo \nUna stanza completamente oscurata. Al centro un tavolo rotondo coperto da una stoffa nera\, abbastanza grande per sederci intorno dodici persone.  Luce e buio si alternano. La voce della donna\, seduta con noi al tavolo\, ci arriva attraverso le cuffie. La donna sembra apparire e sparire. È come se fosse lì con noi\, ci tiene la mano\, ma sembra venire da un altro posto. Parla di sé ma parla di tutti noi. Parte da immagini fissate per sempre nel ricordo e nella memoria. Ci racconta il suo rapporto con il teatro. \nChe cosa è il teatro? Forse la casa misteriosa lassù nella nebbia\, forse l’unico posto che conosciamo per domandare ai morti e fare in modo che qualcuno risponda. \nIl teatro è il luogo dove le attività umane si interrompono\, dove si crea un vuoto sulla mappa e dove si crea un vuoto\, lì acquattato\, c’è sempre qualcosa di nascosto pronto a riprendere il proprio posto. Il teatro è stare in un altro posto. Pensare da un’altra posizione\, Spostare lo sguardo dall’esterno. Tempo e spazio sembrano sospesi. Il buio ci invita a vedere quello che non può essere visto. Non crea altre realtà ma insinuandosi nella dimensione del quotidiano deforma il conosciuto\, il familiare rendendolo ignoto e perturbante. Un al di là interiore\, psico-patologico. \nIn La casa misteriosa lassù nella nebbia\, gli elementi di partenza – una sorta di non dichiarata seduta spiritica a cui lo spettatore partecipa – sembrano rispecchiare in modo sempre più deciso le tensioni e le ansie di una società in cui l’individuo sembra perdersi alla ricerca della definizione di un sé non più immediatamente riconoscibile. È così che l’esperienza destabilizzante dell’extra-ordinario dà vita a un’immagine seducente del reale. \nSPETTACOLO PER 12 SPETTATORI \nVENERDI’ 21 FEBBRAIO SOLD OUT \nPRENOTAZIONE OBBLIGATORIA: \ninfo@teatrodidioniso.it;  345.2697208 \nspettacoli@anacoleti.org
URL:https://www.teatrodidioniso.it/spettacolo/la-casa-misteriosa-lassu-nella-nebbia/
LOCATION:casacuocolobosetti\, Via L. Ariosto\, 85\, VERCELLI\, ITALIA\, 13100
CATEGORIES:Calendario spettacoli 2025
ATTACH;FMTTYPE=image/jpeg:https://www.teatrodidioniso.it/wp-content/uploads/ROBERTA-BOSETTI.jpg
END:VEVENT
BEGIN:VEVENT
DTSTART;TZID=Europe/Rome:20250305T210000
DTEND;TZID=Europe/Rome:20250305T230000
DTSTAMP:20260425T141244
CREATED:20241216T084642Z
LAST-MODIFIED:20241216T084732Z
UID:10666-1741208400-1741215600@www.teatrodidioniso.it
SUMMARY:SVELARSI
DESCRIPTION:Martedì 5 marzo 2025 alle ore 21.00\, al Teatro Manzoni di Monza\, riprende la fortunatissima tournéé di SVELARSI spettacolo-evento ideato e diretto da Silvia Gallerano \nSolo corpi femminili. È questo l’esperimento \nSvelarsi è  uno spettacolo/esperimento/serata/happening/sabba/pigiama party/assemblea… qualcosa di indefinito e indefinibile\, un momento di condivisione e di riflessione piuttosto allegro su temi come il femminismo\, l’umiliazione\, la rivalsa\, il senso di colpa\, l’autodeterminazione. È una serata per sole donne\, che genera parecchie risate e una smodata sorellanza. \nSvelarsi è un percorso di ricerca. Per questo si rivolge a un pubblico esclusivamente di donne (cis\, trans e non binarie). Tutte quelle che si sentono e definiscono donne. Non si tratta di creare uno spazio sicuro per chi è sul palco\, ma di indagare che cosa succede ai corpi simili di chi assiste\, domandarsi se il proprio corpo risuona più profondamente con quello che vede\, nudo\, in scena. \nSvelarsi è  uno spettacolo/esperimento/serata/happening/sabba/pigiama party/assemblea… È una serata per sole donne\, che genera parecchie risate e una smodata sorellanza. \n  \nSVELARSI\nUNA SERATA PER SOLE DONNE (CIS\, TRANS\, NON BINARY) \nregia di Silvia Gallerano\ndi e con Giulia Aleandri\, Elvira Berarducci\, Smeralda Capizzi\, Benedetta Cassio\, Livia De Luca\, Chantal Gori\, Giulia Pietrozzini\, Silvia Gallerano\ncon il contributo di Serena Dibiase e la voce di Greta Marzano\nallestimento luci Camila Chiozza\nconsulenza costumi Emanuela Dall’Aglio\ncura del progetto Nicoletta Scrivo\nuna produzione Teatro di Dioniso\, direzione artistica Michela Cescon\nin collaborazione con PAV nell’ambito di Fabulamundi Playwriting Europe\, direzione Claudia Di Giacomo e Roberta Scaglione e Frida Kahlo Productions\ncon il contributo del MiC – Ministero della Cultura\, Regione Lazio e Roma Capitale\nin collaborazione con SIAE- Società Italiana degli Autori ed Editori\nsi ringraziano per il supporto e l’ospitalità ATCL per Spazio Rossellini\, Lottounico\, Fortezza
URL:https://www.teatrodidioniso.it/spettacolo/svelarsi-2/
LOCATION:TEATRO MANZONI\, Via Manzoni\, 23\, MONZA\, 20900\, Italy
CATEGORIES:Calendario spettacoli 2025
ATTACH;FMTTYPE=image/jpeg:https://www.teatrodidioniso.it/wp-content/uploads/SVELARSI4-1.jpg
END:VEVENT
BEGIN:VEVENT
DTSTART;TZID=Europe/Rome:20250306T210000
DTEND;TZID=Europe/Rome:20250306T230000
DTSTAMP:20260425T141244
CREATED:20241216T085807Z
LAST-MODIFIED:20241216T085807Z
UID:10670-1741294800-1741302000@www.teatrodidioniso.it
SUMMARY:SVELARSI
DESCRIPTION:  \nSolo corpi femminili. È questo l’esperimento \nSvelarsi è  uno spettacolo/esperimento/serata/happening/sabba/pigiama party/assemblea… qualcosa di indefinito e indefinibile\, un momento di condivisione e di riflessione piuttosto allegro su temi come il femminismo\, l’umiliazione\, la rivalsa\, il senso di colpa\, l’autodeterminazione. È una serata per sole donne\, che genera parecchie risate e una smodata sorellanza. \nSvelarsi è un percorso di ricerca. Per questo si rivolge a un pubblico esclusivamente di donne (cis\, trans e non binarie). Tutte quelle che si sentono e definiscono donne. Non si tratta di creare uno spazio sicuro per chi è sul palco\, ma di indagare che cosa succede ai corpi simili di chi assiste\, domandarsi se il proprio corpo risuona più profondamente con quello che vede\, nudo\, in scena. \n  \nSvelarsi è  uno spettacolo/esperimento/serata/happening/sabba/pigiama party/assemblea… È una serata per sole donne\, che genera parecchie risate e una smodata sorellanza. \n  \nSVELARSI\nUNA SERATA PER SOLE DONNE (CIS\, TRANS\, NON BINARY) \nregia di Silvia Gallerano\ndi e con Giulia Aleandri\, Elvira Berarducci\, Smeralda Capizzi\, Benedetta Cassio\, Livia De Luca\, Chantal Gori\, Giulia Pietrozzini\, Silvia Gallerano\ncon il contributo di Serena Dibiase e la voce di Greta Marzano\nallestimento luci Camila Chiozza\nconsulenza costumi Emanuela Dall’Aglio\ncura del progetto Nicoletta Scrivo\nuna produzione Teatro di Dioniso\, direzione artistica Michela Cescon\nin collaborazione con PAV nell’ambito di Fabulamundi Playwriting Europe\, direzione Claudia Di Giacomo e Roberta Scaglione e Frida Kahlo Productions\ncon il contributo del MiC – Ministero della Cultura\, Regione Lazio e Roma Capitale\nin collaborazione con SIAE- Società Italiana degli Autori ed Editori\nsi ringraziano per il supporto e l’ospitalità ATCL per Spazio Rossellini\, Lottounico\, Fortezza \n  \n  \n 
URL:https://www.teatrodidioniso.it/spettacolo/svelarsi-3/
LOCATION:NUOVO TEATRO FARAGGIANA\, Via dei Caccia 1F\, NOVARA\, ITALIA\, 28100\, Italy
CATEGORIES:Calendario spettacoli 2025
ATTACH;FMTTYPE=image/jpeg:https://www.teatrodidioniso.it/wp-content/uploads/Svelarsi-10.jpg
END:VEVENT
BEGIN:VEVENT
DTSTART;TZID=Europe/Rome:20250318T210000
DTEND;TZID=Europe/Rome:20250321T223000
DTSTAMP:20260425T141244
CREATED:20250307T084846Z
LAST-MODIFIED:20250307T094929Z
UID:10717-1742331600-1742596200@www.teatrodidioniso.it
SUMMARY:SVELARSI
DESCRIPTION:Dopo il successo della scorsa stagione torna a Roma a Centrale Preneste SVELARSI spettacolo evento per sole donne e chi si sente tale a cura di Silvia Gallerano. \nSolo corpi femminili. È questo l’esperimento \nSvelarsi è  uno spettacolo/esperimento/serata/happening/sabba/pigiama party/assemblea… qualcosa di indefinito e indefinibile\, un momento di condivisione e di riflessione piuttosto allegro su temi come il femminismo\, l’umiliazione\, la rivalsa\, il senso di colpa\, l’autodeterminazione. È una serata per sole donne\, che genera parecchie risate e una smodata sorellanza. \nSvelarsi è un percorso di ricerca. Per questo si rivolge a un pubblico esclusivamente di donne (cis\, trans e non binarie). Tutte quelle che si sentono e definiscono donne. Non si tratta di creare uno spazio sicuro per chi è sul palco\, ma di indagare che cosa succede ai corpi simili di chi assiste\, domandarsi se il proprio corpo risuona più profondamente con quello che vede\, nudo\, in scena. \nSvelarsi è  uno spettacolo/esperimento/serata/happening/sabba/pigiama party/assemblea… È una serata per sole donne\, che genera parecchie risate e una smodata sorellanza. \n  \nSVELARSI \nUno spettacolo evento per sole donne e chi si sente tale \nregia di Silvia Gallerano \n di e con Giulia Aleandri\, Elvira Berarducci\, Smeralda Capizzi\, Benedetta Cassio\, Livia De Luca\, Chantal Gori\, Giulia Pietrozzini\, Silvia Gallerano con il contributo di Serena Dibiase e la voce di Greta Marzano \n allestimento luci Camila Chiozza \nconsulenza costumi Emanuela Dall’Aglio \nuna produzione Teatro di Dioniso \nin collaborazione con PAV nell’ambito di Fabulamundi Playwriting Europe e Frida Kahlo Production \ncon il contributo del MiC – Ministero della Cultura\, Regione Lazio e Roma Capitale \nin collaborazione con SIAE \nsi ringraziano per il supporto e l’ospitalità ATCL per Spazio Rossellini\, Lottounico\, Fortezza Est e Fivizzano27 \n  \n  \n  \nPrenotazioni al seguente indirizzo mail: svelarsi.unveil@gmail.com\ni biglietti si ritirano direttamente in biglietteria a partire dalle ore 20.00. La prenotazione decade alle 20.45.\nINGRESSO € 10
URL:https://www.teatrodidioniso.it/spettacolo/svelarsi-14/
LOCATION:CENTRALE PRENESTE\, VIA ALBERTO DA GIUSSANO 58\, ROMA\, ITALIA\, 00176
CATEGORIES:Calendario spettacoli 2025
ATTACH;FMTTYPE=image/jpeg:https://www.teatrodidioniso.it/wp-content/uploads/SVELARSI2.jpg
END:VEVENT
BEGIN:VEVENT
DTSTART;TZID=Europe/Rome:20250325T211500
DTEND;TZID=Europe/Rome:20250325T223000
DTSTAMP:20260425T141244
CREATED:20250321T165956Z
LAST-MODIFIED:20250321T165956Z
UID:10725-1742937300-1742941800@www.teatrodidioniso.it
SUMMARY:KARAOKE FEMMINISTA
DESCRIPTION:Martedì 25 marzo alle  21.15\, al Teatro Solvay di Rosignano\, debutta in anteprima lo spettacolo Karaoke femminista\, da un’idea di Monica Nappo in scena insieme a Silvia Gallerano. \nUna canzone può farci compagnia\, tirarci su\, ricordare un momento speciale. Può definirci in un momento della vita\, o finché viviamo. \nQuante volte da ragazzine abbiamo cantato delle canzoni prima di uscire\, con le amiche o con qualcuno che ci piaceva. Da cantare mentre ci si prepara\, mentre si guida\, sotto la doccia\, al telefono all’amica\, da sola al supermarket. Anni e anni di passeggiate con la musica nelle orecchie a ripetere fedelmente le parole. Ma quante canzoni sappiamo a memoria che se davvero ci mettessimo ad analizzare il testo rimarremmo inorridite? \nKaraoke Femminista si propone di analizzare questo: quanto qualcosa di innocuo come una canzone può aver forgiato il nostro sentirci donne. Cosa abbiamo fatto per rientrare in quell’accordo e sentirci in quella storia? \n 
URL:https://www.teatrodidioniso.it/spettacolo/karaoke-femminista/
LOCATION:TEATRO SOLVAY\, via E. Solvay\, ROSIGNANO SOLVAY\, 57016\, Italy
CATEGORIES:Calendario spettacoli 2025
ATTACH;FMTTYPE=image/jpeg:https://www.teatrodidioniso.it/wp-content/uploads/208407810_10159555047543394_858183017801859963_n.jpg
END:VEVENT
BEGIN:VEVENT
DTSTART;TZID=Europe/Rome:20250328T210000
DTEND;TZID=Europe/Rome:20250329T230000
DTSTAMP:20260425T141244
CREATED:20250211T085825Z
LAST-MODIFIED:20250211T085825Z
UID:10711-1743195600-1743289200@www.teatrodidioniso.it
SUMMARY:SVELARSI
DESCRIPTION:Venerdì 28 e sabato 29 marzo alle ore 21.00 arriva SVELARSI\, spettacolo/esperimento/serata/happening/sabba/pigiama party/assemblea… qualcosa di indefinito e indefinibile\, un momento di condivisione e di riflessione piuttosto allegro su temi come il femminismo\, l’umiliazione\, la rivalsa\, il senso di colpa\, l’autodeterminazione. È una serata per sole donne\, che genera parecchie risate e una smodata sorellanza. \nSolo corpi femminili. È questo l’esperimento \nSvelarsi è un percorso di ricerca. Per questo si rivolge a un pubblico esclusivamente di donne (cis\, trans e non binarie). Tutte quelle che si sentono e definiscono donne. Non si tratta di creare uno spazio sicuro per chi è sul palco\, ma di indagare che cosa succede ai corpi simili di chi assiste\, domandarsi se il proprio corpo risuona più profondamente con quello che vede\, nudo\, in scena. \n  \nSvelarsi è  uno spettacolo/esperimento/serata/happening/sabba/pigiama party/assemblea… È una serata per sole donne\, che genera parecchie risate e una smodata sorellanza. \n  \nSVELARSI\nUNA SERATA PER SOLE DONNE (CIS\, TRANS\, NON BINARY) \nregia di Silvia Gallerano\ndi e con Giulia Aleandri\, Elvira Berarducci\, Smeralda Capizzi\, Benedetta Cassio\, Livia De Luca\, Chantal Gori\, Giulia Pietrozzini\, Silvia Gallerano\ncon il contributo di Serena Dibiase e la voce di Greta Marzano\nallestimento luci Camila Chiozza\nconsulenza costumi Emanuela Dall’Aglio\ncura del progetto Nicoletta Scrivo\nuna produzione Teatro di Dioniso\, direzione artistica Michela Cescon\nin collaborazione con PAV nell’ambito di Fabulamundi Playwriting Europe\, direzione Claudia Di Giacomo e Roberta Scaglione e Frida Kahlo Productions\ncon il contributo del MiC – Ministero della Cultura\, Regione Lazio e Roma Capitale\nin collaborazione con SIAE- Società Italiana degli Autori ed Editori\nsi ringraziano per il supporto e l’ospitalità ATCL per Spazio Rossellini\, Lottounico\, Fortezza \n\n  \n  \n  \n 
URL:https://www.teatrodidioniso.it/spettacolo/svelarsi-13/
LOCATION:TEATRO ERBA\, CORSO MONCALIERI\, 241\, TORINO\, 10133\, Italy
CATEGORIES:Calendario spettacoli 2025
ATTACH;FMTTYPE=image/jpeg:https://www.teatrodidioniso.it/wp-content/uploads/SVELARSI4-1.jpg
END:VEVENT
END:VCALENDAR