BEGIN:VCALENDAR
VERSION:2.0
PRODID:-//Teatro di Dioniso - ECPv6.15.17.1//NONSGML v1.0//EN
CALSCALE:GREGORIAN
METHOD:PUBLISH
X-WR-CALNAME:Teatro di Dioniso
X-ORIGINAL-URL:https://www.teatrodidioniso.it
X-WR-CALDESC:Eventi per Teatro di Dioniso
REFRESH-INTERVAL;VALUE=DURATION:PT1H
X-Robots-Tag:noindex
X-PUBLISHED-TTL:PT1H
BEGIN:VTIMEZONE
TZID:Europe/Rome
BEGIN:DAYLIGHT
TZOFFSETFROM:+0100
TZOFFSETTO:+0200
TZNAME:CEST
DTSTART:20240331T010000
END:DAYLIGHT
BEGIN:STANDARD
TZOFFSETFROM:+0200
TZOFFSETTO:+0100
TZNAME:CET
DTSTART:20241027T010000
END:STANDARD
BEGIN:DAYLIGHT
TZOFFSETFROM:+0100
TZOFFSETTO:+0200
TZNAME:CEST
DTSTART:20250330T010000
END:DAYLIGHT
BEGIN:STANDARD
TZOFFSETFROM:+0200
TZOFFSETTO:+0100
TZNAME:CET
DTSTART:20251026T010000
END:STANDARD
BEGIN:DAYLIGHT
TZOFFSETFROM:+0100
TZOFFSETTO:+0200
TZNAME:CEST
DTSTART:20260329T010000
END:DAYLIGHT
BEGIN:STANDARD
TZOFFSETFROM:+0200
TZOFFSETTO:+0100
TZNAME:CET
DTSTART:20261025T010000
END:STANDARD
END:VTIMEZONE
BEGIN:VEVENT
DTSTART;TZID=Europe/Rome:20250221T210000
DTEND;TZID=Europe/Rome:20250305T220000
DTSTAMP:20260425T153942
CREATED:20241024T092159Z
LAST-MODIFIED:20241028T084407Z
UID:10504-1740171600-1741212000@www.teatrodidioniso.it
SUMMARY:LA CASA MISTERIOSA LASSU' NELLA NEBBIA
DESCRIPTION:Venerdì 21 febbraio 2025 alle ore 21.00 – con repliche 22\, 23\,25\,26 27 e 28; 1\, 4 e 5 marzo – debutterà in prima nazionale l’ultimo lavoro della pluripremiata coppia Cuocolo/Bosetti nell’ormai iconica abitazione dei due artisti\, più volte diventata teatro per rappresentare le lo creazioni\, in via Ludovico Ariosto 85 a Vercelli. \nLo spettacolo è prodotto da Teatro di Dioniso e viene organizzato in collaborazione con Anacoleti – Officina Teatrale di Vercelli (sede di #ogniluogoèunteatro che da quattro anni Cuocolo/Bosetti organizza insieme a Dioniso ed Arteinscacco) e Piemonte dal Vivo. \n\nLo spettacolo \nUna stanza completamente oscurata. Al centro un tavolo rotondo coperto da una stoffa nera\, abbastanza grande per sederci intorno dodici persone.  Luce e buio si alternano. La voce della donna\, seduta con noi al tavolo\, ci arriva attraverso le cuffie. La donna sembra apparire e sparire. È come se fosse lì con noi\, ci tiene la mano\, ma sembra venire da un altro posto. Parla di sé ma parla di tutti noi. Parte da immagini fissate per sempre nel ricordo e nella memoria. Ci racconta il suo rapporto con il teatro. \nChe cosa è il teatro? Forse la casa misteriosa lassù nella nebbia\, forse l’unico posto che conosciamo per domandare ai morti e fare in modo che qualcuno risponda. \nIl teatro è il luogo dove le attività umane si interrompono\, dove si crea un vuoto sulla mappa e dove si crea un vuoto\, lì acquattato\, c’è sempre qualcosa di nascosto pronto a riprendere il proprio posto. Il teatro è stare in un altro posto. Pensare da un’altra posizione\, Spostare lo sguardo dall’esterno. Tempo e spazio sembrano sospesi. Il buio ci invita a vedere quello che non può essere visto. Non crea altre realtà ma insinuandosi nella dimensione del quotidiano deforma il conosciuto\, il familiare rendendolo ignoto e perturbante. Un al di là interiore\, psico-patologico. \nIn La casa misteriosa lassù nella nebbia\, gli elementi di partenza – una sorta di non dichiarata seduta spiritica a cui lo spettatore partecipa – sembrano rispecchiare in modo sempre più deciso le tensioni e le ansie di una società in cui l’individuo sembra perdersi alla ricerca della definizione di un sé non più immediatamente riconoscibile. È così che l’esperienza destabilizzante dell’extra-ordinario dà vita a un’immagine seducente del reale. \nSPETTACOLO PER 12 SPETTATORI \nVENERDI’ 21 FEBBRAIO SOLD OUT \nPRENOTAZIONE OBBLIGATORIA: \ninfo@teatrodidioniso.it;  345.2697208 \nspettacoli@anacoleti.org
URL:https://www.teatrodidioniso.it/spettacolo/la-casa-misteriosa-lassu-nella-nebbia/
LOCATION:casacuocolobosetti\, Via L. Ariosto\, 85\, VERCELLI\, ITALIA\, 13100
CATEGORIES:Calendario spettacoli 2025
ATTACH;FMTTYPE=image/jpeg:https://www.teatrodidioniso.it/wp-content/uploads/ROBERTA-BOSETTI.jpg
END:VEVENT
END:VCALENDAR